BEGIN:VCALENDAR
VERSION:2.0
PRODID:-//Ostenfeld-NF - ECPv6.15.20//NONSGML v1.0//EN
CALSCALE:GREGORIAN
METHOD:PUBLISH
X-WR-CALNAME:Ostenfeld-NF
X-ORIGINAL-URL:https://www.ostenfeld-nf.de
X-WR-CALDESC:Veranstaltungen für Ostenfeld-NF
REFRESH-INTERVAL;VALUE=DURATION:PT1H
X-Robots-Tag:noindex
X-PUBLISHED-TTL:PT1H
BEGIN:VTIMEZONE
TZID:Europe/Berlin
BEGIN:DAYLIGHT
TZOFFSETFROM:+0100
TZOFFSETTO:+0200
TZNAME:CEST
DTSTART:20250330T010000
END:DAYLIGHT
BEGIN:STANDARD
TZOFFSETFROM:+0200
TZOFFSETTO:+0100
TZNAME:CET
DTSTART:20251026T010000
END:STANDARD
BEGIN:DAYLIGHT
TZOFFSETFROM:+0100
TZOFFSETTO:+0200
TZNAME:CEST
DTSTART:20260329T010000
END:DAYLIGHT
BEGIN:STANDARD
TZOFFSETFROM:+0200
TZOFFSETTO:+0100
TZNAME:CET
DTSTART:20261025T010000
END:STANDARD
BEGIN:DAYLIGHT
TZOFFSETFROM:+0100
TZOFFSETTO:+0200
TZNAME:CEST
DTSTART:20270328T010000
END:DAYLIGHT
BEGIN:STANDARD
TZOFFSETFROM:+0200
TZOFFSETTO:+0100
TZNAME:CET
DTSTART:20271031T010000
END:STANDARD
END:VTIMEZONE
BEGIN:VEVENT
DTSTART;TZID=Europe/Berlin:20260425T143000
DTEND;TZID=Europe/Berlin:20260425T143000
DTSTAMP:20260424T135908
CREATED:20260320T160412Z
LAST-MODIFIED:20260320T160412Z
UID:12509-1777127400-1777127400@www.ostenfeld-nf.de
SUMMARY:Senioren-Nachmittag des LandFrauenVerein Ostenfeld u.U.
DESCRIPTION:
URL:https://www.ostenfeld-nf.de/event/senioren-nachmittag-des-landfrauenverein-ostenfeld-u-u/
LOCATION:Kirchspielkrug\, Hauptstraße 21\, Ostenfeld\, 25872
ORGANIZER;CN="Land-Frauen-Verein Ostenfeld u. Umgebung e.V.":MAILTO:lfv-ostenfeld@t-online.de
END:VEVENT
BEGIN:VEVENT
DTSTART;TZID=Europe/Berlin:20260428T193000
DTEND;TZID=Europe/Berlin:20260428T193000
DTSTAMP:20260424T135908
CREATED:20260420T190006Z
LAST-MODIFIED:20260420T190006Z
UID:12651-1777404600-1777404600@www.ostenfeld-nf.de
SUMMARY:8. öffentliche Sitzung der Schulverbandsversammlung
DESCRIPTION:
URL:https://www.ostenfeld-nf.de/event/8-oeffentliche-sitzung-der-schulverbandsversammlung/
LOCATION:Otto-Thiesen-Schule\, Süderweg 35\, Ostenfeld\, 25872
END:VEVENT
BEGIN:VEVENT
DTSTART;TZID=Europe/Berlin:20260429T150000
DTEND;TZID=Europe/Berlin:20260429T150000
DTSTAMP:20260424T135908
CREATED:20260227T172924Z
LAST-MODIFIED:20260227T174138Z
UID:12447-1777474800-1777474800@www.ostenfeld-nf.de
SUMMARY:DRK Ostenfeld - Kino-Besuch mit der Kirche
DESCRIPTION:
URL:https://www.ostenfeld-nf.de/event/drk-ostenfeld-kino-besuch-mit-der-kirche/
END:VEVENT
BEGIN:VEVENT
DTSTART;TZID=Europe/Berlin:20260509T090000
DTEND;TZID=Europe/Berlin:20260509T110000
DTSTAMP:20260424T135908
CREATED:20260226T122133Z
LAST-MODIFIED:20260226T122133Z
UID:12427-1778317200-1778324400@www.ostenfeld-nf.de
SUMMARY:Schredder- und Kompostplatz geöffnet
DESCRIPTION:Der Schredder- und Kompostplatz (Heudamm/Stumpen) der Gemeinde Ostenfeld ist wie folgt geöffnet:\nFür Gartenabfälle an jedem 2. Sonnabend im Monat von 9:00 – 11:00 Uhr\,\naußer in den Monaten Januar und Februar.\nFür Busch- und Strauchwerk: an jedem 2. Sonnabend in den Monaten März\, April\, November und Dezember.\nIch bitte\, nur Grünabfalle von Privathaushaltungen getrennt nach Strauchwerk und vergleichbaren Gartenabfällen anzuliefern.\nDen Anordnungen des Platzwartes ist Folge zu leisten.\nGemeinde Ostenfeld\nEva-Maria Kühl\nBürgermeisterin
URL:https://www.ostenfeld-nf.de/event/schredder-und-kompostplatz-geoeffnet-2/
LOCATION:Heudamm / Stumpen
ORGANIZER;CN="Gemeinde Ostenfeld":MAILTO:bgm@ostenfeld-nf.de
END:VEVENT
BEGIN:VEVENT
DTSTART;TZID=Europe/Berlin:20260527T150000
DTEND;TZID=Europe/Berlin:20260527T150000
DTSTAMP:20260424T135908
CREATED:20260227T173057Z
LAST-MODIFIED:20260227T173057Z
UID:12449-1779894000-1779894000@www.ostenfeld-nf.de
SUMMARY:DRK Ostenfeld - Lotto Blumenverspielen
DESCRIPTION:
URL:https://www.ostenfeld-nf.de/event/drk-ostenfeld-lotto-blumenverspielen/
LOCATION:Gemeindehaus\, Ostenfeld\, 25872
END:VEVENT
BEGIN:VEVENT
DTSTART;TZID=Europe/Berlin:20260603T150000
DTEND;TZID=Europe/Berlin:20260603T150000
DTSTAMP:20260424T135908
CREATED:20260227T173155Z
LAST-MODIFIED:20260227T173155Z
UID:12451-1780498800-1780498800@www.ostenfeld-nf.de
SUMMARY:DRK Ostenfeld - Halbtagestour mit der Kirche
DESCRIPTION:
URL:https://www.ostenfeld-nf.de/event/drk-ostenfeld-halbtagestour-mit-der-kirche/
END:VEVENT
BEGIN:VEVENT
DTSTART;VALUE=DATE:20260607
DTEND;VALUE=DATE:20260608
DTSTAMP:20260424T135908
CREATED:20260313T161011Z
LAST-MODIFIED:20260313T161011Z
UID:12493-1780790400-1780876799@www.ostenfeld-nf.de
SUMMARY:Fahrradtour des Verein Umwelt-Kultur-Geschichte
DESCRIPTION:Gäste sind willkommen.
URL:https://www.ostenfeld-nf.de/event/fahrradtour-des-verein-umwelt-kultur-geschichte/
END:VEVENT
BEGIN:VEVENT
DTSTART;TZID=Europe/Berlin:20260613T090000
DTEND;TZID=Europe/Berlin:20260613T110000
DTSTAMP:20260424T135908
CREATED:20260226T122227Z
LAST-MODIFIED:20260226T122227Z
UID:12429-1781341200-1781348400@www.ostenfeld-nf.de
SUMMARY:Schredder- und Kompostplatz geöffnet
DESCRIPTION:Der Schredder- und Kompostplatz (Heudamm/Stumpen) der Gemeinde Ostenfeld ist wie folgt geöffnet:\nFür Gartenabfälle an jedem 2. Sonnabend im Monat von 9:00 – 11:00 Uhr\,\naußer in den Monaten Januar und Februar.\nFür Busch- und Strauchwerk: an jedem 2. Sonnabend in den Monaten März\, April\, November und Dezember.\nIch bitte\, nur Grünabfalle von Privathaushaltungen getrennt nach Strauchwerk und vergleichbaren Gartenabfällen anzuliefern.\nDen Anordnungen des Platzwartes ist Folge zu leisten.\nGemeinde Ostenfeld\nEva-Maria Kühl\nBürgermeisterin
URL:https://www.ostenfeld-nf.de/event/schredder-und-kompostplatz-geoeffnet-3/
LOCATION:Heudamm / Stumpen
ORGANIZER;CN="Gemeinde Ostenfeld":MAILTO:bgm@ostenfeld-nf.de
END:VEVENT
BEGIN:VEVENT
DTSTART;TZID=Europe/Berlin:20260618T160000
DTEND;TZID=Europe/Berlin:20260618T193000
DTSTAMP:20260424T135908
CREATED:20260226T115527Z
LAST-MODIFIED:20260226T120216Z
UID:12416-1781798400-1781811000@www.ostenfeld-nf.de
SUMMARY:Blutspenden des DRK
DESCRIPTION:
URL:https://www.ostenfeld-nf.de/event/blutspenden-des-drk-2/
LOCATION:Otto-Thiesen-Schule\, Süderweg 35\, Ostenfeld\, 25872
END:VEVENT
BEGIN:VEVENT
DTSTART;VALUE=DATE:20260627
DTEND;VALUE=DATE:20260628
DTSTAMP:20260424T135908
CREATED:20260214T095017Z
LAST-MODIFIED:20260214T095017Z
UID:12398-1782518400-1782604799@www.ostenfeld-nf.de
SUMMARY:Kinderfest in Ostenfeld
DESCRIPTION:Vormittags an der Otto-Thiesen-Schule\, nachmittags in der Sporthalle in Ostenfeld. \nFlyer kommt…
URL:https://www.ostenfeld-nf.de/event/kinderfest-in-ostenfeld/
LOCATION:Otto-Thiesen-Schule\, Süderweg 35\, Ostenfeld\, 25872
ORGANIZER;CN="Elterninitiative Kinderfest Ostenfeld":MAILTO:rahn-ostenfeld@web.de
END:VEVENT
BEGIN:VEVENT
DTSTART;TZID=Europe/Berlin:20260711T090000
DTEND;TZID=Europe/Berlin:20260711T110000
DTSTAMP:20260424T135908
CREATED:20260226T122311Z
LAST-MODIFIED:20260226T122311Z
UID:12431-1783760400-1783767600@www.ostenfeld-nf.de
SUMMARY:Schredder- und Kompostplatz geöffnet
DESCRIPTION:Der Schredder- und Kompostplatz (Heudamm/Stumpen) der Gemeinde Ostenfeld ist wie folgt geöffnet:\nFür Gartenabfälle an jedem 2. Sonnabend im Monat von 9:00 – 11:00 Uhr\,\naußer in den Monaten Januar und Februar.\nFür Busch- und Strauchwerk: an jedem 2. Sonnabend in den Monaten März\, April\, November und Dezember.\nIch bitte\, nur Grünabfalle von Privathaushaltungen getrennt nach Strauchwerk und vergleichbaren Gartenabfällen anzuliefern.\nDen Anordnungen des Platzwartes ist Folge zu leisten.\nGemeinde Ostenfeld\nEva-Maria Kühl\nBürgermeisterin
URL:https://www.ostenfeld-nf.de/event/schredder-und-kompostplatz-geoeffnet-4/
LOCATION:Heudamm / Stumpen
ORGANIZER;CN="Gemeinde Ostenfeld":MAILTO:bgm@ostenfeld-nf.de
END:VEVENT
BEGIN:VEVENT
DTSTART;TZID=Europe/Berlin:20260729T150000
DTEND;TZID=Europe/Berlin:20260729T150000
DTSTAMP:20260424T135908
CREATED:20260227T173304Z
LAST-MODIFIED:20260227T173304Z
UID:12453-1785337200-1785337200@www.ostenfeld-nf.de
SUMMARY:DRK Ostenfeld - Vortrag Diako/Tagespflege von Frau Hansen
DESCRIPTION:
URL:https://www.ostenfeld-nf.de/event/drk-ostenfeld-vortrag-diako-tagespflege-von-frau-hansen/
LOCATION:Gemeindehaus\, Ostenfeld\, 25872
END:VEVENT
BEGIN:VEVENT
DTSTART;TZID=Europe/Berlin:20260808T090000
DTEND;TZID=Europe/Berlin:20260808T110000
DTSTAMP:20260424T135908
CREATED:20260226T122356Z
LAST-MODIFIED:20260226T122356Z
UID:12433-1786179600-1786186800@www.ostenfeld-nf.de
SUMMARY:Schredder- und Kompostplatz geöffnet
DESCRIPTION:Der Schredder- und Kompostplatz (Heudamm/Stumpen) der Gemeinde Ostenfeld ist wie folgt geöffnet:\nFür Gartenabfälle an jedem 2. Sonnabend im Monat von 9:00 – 11:00 Uhr\,\naußer in den Monaten Januar und Februar.\nFür Busch- und Strauchwerk: an jedem 2. Sonnabend in den Monaten März\, April\, November und Dezember.\nIch bitte\, nur Grünabfalle von Privathaushaltungen getrennt nach Strauchwerk und vergleichbaren Gartenabfällen anzuliefern.\nDen Anordnungen des Platzwartes ist Folge zu leisten.\nGemeinde Ostenfeld\nEva-Maria Kühl\nBürgermeisterin
URL:https://www.ostenfeld-nf.de/event/schredder-und-kompostplatz-geoeffnet-5/
LOCATION:Heudamm / Stumpen
ORGANIZER;CN="Gemeinde Ostenfeld":MAILTO:bgm@ostenfeld-nf.de
END:VEVENT
BEGIN:VEVENT
DTSTART;TZID=Europe/Berlin:20260826T150000
DTEND;TZID=Europe/Berlin:20260826T150000
DTSTAMP:20260424T135908
CREATED:20260227T174050Z
LAST-MODIFIED:20260228T073952Z
UID:12463-1787756400-1787756400@www.ostenfeld-nf.de
SUMMARY:DRK Ostenfeld - Vortrag von Ellen Rahn (Fußpflege)
DESCRIPTION:
URL:https://www.ostenfeld-nf.de/event/drk-ostenfeld-ellen-rahn-fusspflege/
LOCATION:Gemeindehaus\, Ostenfeld\, 25872
END:VEVENT
BEGIN:VEVENT
DTSTART;TZID=Europe/Berlin:20260902T150000
DTEND;TZID=Europe/Berlin:20260902T150000
DTSTAMP:20260424T135908
CREATED:20260227T173651Z
LAST-MODIFIED:20260227T173651Z
UID:12455-1788361200-1788361200@www.ostenfeld-nf.de
SUMMARY:DRK Ostenfeld - Grillen mit der Kirche
DESCRIPTION:
URL:https://www.ostenfeld-nf.de/event/drk-ostenfeld-grillen-mit-der-kirche/
LOCATION:Gemeindehaus\, Ostenfeld\, 25872
END:VEVENT
BEGIN:VEVENT
DTSTART;TZID=Europe/Berlin:20260912T090000
DTEND;TZID=Europe/Berlin:20260912T110000
DTSTAMP:20260424T135908
CREATED:20260226T122448Z
LAST-MODIFIED:20260226T122448Z
UID:12435-1789203600-1789210800@www.ostenfeld-nf.de
SUMMARY:Schredder- und Kompostplatz geöffnet
DESCRIPTION:Der Schredder- und Kompostplatz (Heudamm/Stumpen) der Gemeinde Ostenfeld ist wie folgt geöffnet:\nFür Gartenabfälle an jedem 2. Sonnabend im Monat von 9:00 – 11:00 Uhr\,\naußer in den Monaten Januar und Februar.\nFür Busch- und Strauchwerk: an jedem 2. Sonnabend in den Monaten März\, April\, November und Dezember.\nIch bitte\, nur Grünabfalle von Privathaushaltungen getrennt nach Strauchwerk und vergleichbaren Gartenabfällen anzuliefern.\nDen Anordnungen des Platzwartes ist Folge zu leisten.\nGemeinde Ostenfeld\nEva-Maria Kühl\nBürgermeisterin
URL:https://www.ostenfeld-nf.de/event/schredder-und-kompostplatz-geoeffnet-6/
LOCATION:Heudamm / Stumpen
ORGANIZER;CN="Gemeinde Ostenfeld":MAILTO:bgm@ostenfeld-nf.de
END:VEVENT
BEGIN:VEVENT
DTSTART;TZID=Europe/Berlin:20260917T101500
DTEND;TZID=Europe/Berlin:20260917T110000
DTSTAMP:20260424T135908
CREATED:20251228T083228Z
LAST-MODIFIED:20251228T083255Z
UID:12299-1789640100-1789642800@www.ostenfeld-nf.de
SUMMARY:Mobile Sonderabfallsammlung durch AWNF
DESCRIPTION:
URL:https://www.ostenfeld-nf.de/event/mobile-sonderabfallsammlung-durch-awnf-2/
LOCATION:Feuerwehrgerätehaus\, Ohrstedter Str. 1\, Ostenfeld\, 25872
END:VEVENT
BEGIN:VEVENT
DTSTART;TZID=Europe/Berlin:20260917T160000
DTEND;TZID=Europe/Berlin:20260917T193000
DTSTAMP:20260424T135908
CREATED:20260226T115626Z
LAST-MODIFIED:20260226T120248Z
UID:12418-1789660800-1789673400@www.ostenfeld-nf.de
SUMMARY:Blutspenden des DRK
DESCRIPTION:
URL:https://www.ostenfeld-nf.de/event/blutspenden-des-drk-3/
LOCATION:Otto-Thiesen-Schule\, Süderweg 35\, Ostenfeld\, 25872
END:VEVENT
BEGIN:VEVENT
DTSTART;TZID=Europe/Berlin:20260920T100000
DTEND;TZID=Europe/Berlin:20260920T160000
DTSTAMP:20260424T135908
CREATED:20260313T161104Z
LAST-MODIFIED:20260313T161209Z
UID:12495-1789898400-1789920000@www.ostenfeld-nf.de
SUMMARY:Dorfflohmarkt in Ostenfeld
DESCRIPTION:Weitere Informationen folgen…
URL:https://www.ostenfeld-nf.de/event/dorfflohmarkt-in-ostenfeld/
END:VEVENT
BEGIN:VEVENT
DTSTART;TZID=Europe/Berlin:20260930T150000
DTEND;TZID=Europe/Berlin:20260930T150000
DTSTAMP:20260424T135908
CREATED:20260227T173746Z
LAST-MODIFIED:20260227T173746Z
UID:12457-1790780400-1790780400@www.ostenfeld-nf.de
SUMMARY:DRK Ostenfeld - Lotto mit Fam. Dierks
DESCRIPTION:
URL:https://www.ostenfeld-nf.de/event/drk-ostenfeld-lotto-mit-fam-dierks/
LOCATION:Gemeindehaus\, Ostenfeld\, 25872
END:VEVENT
BEGIN:VEVENT
DTSTART;TZID=Europe/Berlin:20261010T090000
DTEND;TZID=Europe/Berlin:20261010T110000
DTSTAMP:20260424T135908
CREATED:20260226T122535Z
LAST-MODIFIED:20260226T122535Z
UID:12437-1791622800-1791630000@www.ostenfeld-nf.de
SUMMARY:Schredder- und Kompostplatz geöffnet
DESCRIPTION:Der Schredder- und Kompostplatz (Heudamm/Stumpen) der Gemeinde Ostenfeld ist wie folgt geöffnet:\nFür Gartenabfälle an jedem 2. Sonnabend im Monat von 9:00 – 11:00 Uhr\,\naußer in den Monaten Januar und Februar.\nFür Busch- und Strauchwerk: an jedem 2. Sonnabend in den Monaten März\, April\, November und Dezember.\nIch bitte\, nur Grünabfalle von Privathaushaltungen getrennt nach Strauchwerk und vergleichbaren Gartenabfällen anzuliefern.\nDen Anordnungen des Platzwartes ist Folge zu leisten.\nGemeinde Ostenfeld\nEva-Maria Kühl\nBürgermeisterin
URL:https://www.ostenfeld-nf.de/event/schredder-und-kompostplatz-geoeffnet-7/
LOCATION:Heudamm / Stumpen
ORGANIZER;CN="Gemeinde Ostenfeld":MAILTO:bgm@ostenfeld-nf.de
END:VEVENT
BEGIN:VEVENT
DTSTART;TZID=Europe/Berlin:20261028T150000
DTEND;TZID=Europe/Berlin:20261028T150000
DTSTAMP:20260424T135908
CREATED:20260227T173834Z
LAST-MODIFIED:20260227T173834Z
UID:12459-1793199600-1793199600@www.ostenfeld-nf.de
SUMMARY:DRK Ostenfeld - Gemüselotto
DESCRIPTION:
URL:https://www.ostenfeld-nf.de/event/drk-ostenfeld-gemueselotto/
LOCATION:Gemeindehaus\, Ostenfeld\, 25872
END:VEVENT
BEGIN:VEVENT
DTSTART;TZID=Europe/Berlin:20261114T090000
DTEND;TZID=Europe/Berlin:20261114T110000
DTSTAMP:20260424T135908
CREATED:20260226T122622Z
LAST-MODIFIED:20260226T122622Z
UID:12439-1794646800-1794654000@www.ostenfeld-nf.de
SUMMARY:Schredder- und Kompostplatz geöffnet
DESCRIPTION:Der Schredder- und Kompostplatz (Heudamm/Stumpen) der Gemeinde Ostenfeld ist wie folgt geöffnet:\nFür Gartenabfälle an jedem 2. Sonnabend im Monat von 9:00 – 11:00 Uhr\,\naußer in den Monaten Januar und Februar.\nFür Busch- und Strauchwerk: an jedem 2. Sonnabend in den Monaten März\, April\, November und Dezember.\nIch bitte\, nur Grünabfalle von Privathaushaltungen getrennt nach Strauchwerk und vergleichbaren Gartenabfällen anzuliefern.\nDen Anordnungen des Platzwartes ist Folge zu leisten.\nGemeinde Ostenfeld\nEva-Maria Kühl\nBürgermeisterin
URL:https://www.ostenfeld-nf.de/event/schredder-und-kompostplatz-geoeffnet-8/
LOCATION:Heudamm / Stumpen
ORGANIZER;CN="Gemeinde Ostenfeld":MAILTO:bgm@ostenfeld-nf.de
END:VEVENT
BEGIN:VEVENT
DTSTART;TZID=Europe/Berlin:20261212T090000
DTEND;TZID=Europe/Berlin:20261212T110000
DTSTAMP:20260424T135908
CREATED:20260226T122731Z
LAST-MODIFIED:20260226T122731Z
UID:12441-1797066000-1797073200@www.ostenfeld-nf.de
SUMMARY:Schredder- und Kompostplatz geöffnet
DESCRIPTION:Der Schredder- und Kompostplatz (Heudamm/Stumpen) der Gemeinde Ostenfeld ist wie folgt geöffnet:\nFür Gartenabfälle an jedem 2. Sonnabend im Monat von 9:00 – 11:00 Uhr\,\naußer in den Monaten Januar und Februar.\nFür Busch- und Strauchwerk: an jedem 2. Sonnabend in den Monaten März\, April\, November und Dezember.\nIch bitte\, nur Grünabfalle von Privathaushaltungen getrennt nach Strauchwerk und vergleichbaren Gartenabfällen anzuliefern.\nDen Anordnungen des Platzwartes ist Folge zu leisten.\nGemeinde Ostenfeld\nEva-Maria Kühl\nBürgermeisterin
URL:https://www.ostenfeld-nf.de/event/schredder-und-kompostplatz-geoeffnet-9/
LOCATION:Heudamm / Stumpen
ORGANIZER;CN="Gemeinde Ostenfeld":MAILTO:bgm@ostenfeld-nf.de
END:VEVENT
BEGIN:VEVENT
DTSTART;TZID=Europe/Berlin:20261216T150000
DTEND;TZID=Europe/Berlin:20261216T150000
DTSTAMP:20260424T135908
CREATED:20260227T173932Z
LAST-MODIFIED:20260227T173932Z
UID:12461-1797433200-1797433200@www.ostenfeld-nf.de
SUMMARY:DRK Ostenfeld - Adventsfeier im Kirchspielkrug
DESCRIPTION:
URL:https://www.ostenfeld-nf.de/event/drk-ostenfeld-adventsfeier-im-kirchspielkrug/
LOCATION:Kirchspielkrug\, Hauptstraße 21\, Ostenfeld\, 25872
END:VEVENT
BEGIN:VEVENT
DTSTART;TZID=Europe/Berlin:20261217T160000
DTEND;TZID=Europe/Berlin:20261217T193000
DTSTAMP:20260424T135908
CREATED:20260226T115712Z
LAST-MODIFIED:20260226T120433Z
UID:12420-1797523200-1797535800@www.ostenfeld-nf.de
SUMMARY:Blutspenden des DRK
DESCRIPTION:
URL:https://www.ostenfeld-nf.de/event/blutspenden-des-drk-4/
LOCATION:Otto-Thiesen-Schule\, Süderweg 35\, Ostenfeld\, 25872
END:VEVENT
END:VCALENDAR